BEGIN:VCALENDAR
VERSION:2.0
PRODID:-//Urgnano Turistica - ECPv6.5.0//NONSGML v1.0//EN
CALSCALE:GREGORIAN
METHOD:PUBLISH
X-WR-CALNAME:Urgnano Turistica
X-ORIGINAL-URL:https://www.urgnanoturistica.it
X-WR-CALDESC:Eventi per Urgnano Turistica
REFRESH-INTERVAL;VALUE=DURATION:PT1H
X-Robots-Tag:noindex
X-PUBLISHED-TTL:PT1H
BEGIN:VTIMEZONE
TZID:UTC
BEGIN:STANDARD
TZOFFSETFROM:+0000
TZOFFSETTO:+0000
TZNAME:UTC
DTSTART:20250101T000000
END:STANDARD
END:VTIMEZONE
BEGIN:VEVENT
DTSTART;TZID=UTC:20250308T150000
DTEND;TZID=UTC:20250308T180000
DTSTAMP:20260425T110233
CREATED:20250225T100317Z
LAST-MODIFIED:20250225T100317Z
UID:9541-1741446000-1741456800@www.urgnanoturistica.it
SUMMARY:5 PASSI ACCANTO AD UNA DONNA
DESCRIPTION:Sabato 8 marzo 2025\nevento ludico sportivo aperto a tutti\nPartenza dal Centro Sportivo alle ore 15.00 (iscrizioni dalle ore 14.00)
URL:https://www.urgnanoturistica.it/event/5-passi-accanto-ad-una-donna/
ATTACH;FMTTYPE=application/pdf:https://www.urgnanoturistica.it/wp-content/uploads/2025/02/LOCANDINA-1.pdf
END:VEVENT
BEGIN:VEVENT
DTSTART;TZID=UTC:20250321T213000
DTEND;TZID=UTC:20250321T223000
DTSTAMP:20260425T110233
CREATED:20250305T095205Z
LAST-MODIFIED:20250305T095448Z
UID:9564-1742592600-1742596200@www.urgnanoturistica.it
SUMMARY:ESCAPE CASTLE
DESCRIPTION:La spada nella rocca\n21 e 22 marzo\, dalle ore 21.00 alle ore 22.30\nCastello Albani
URL:https://www.urgnanoturistica.it/event/escape-castle-2/
LOCATION:Castello\, Viale rimembranze\, Urgnano\, 24059\, Italia
ATTACH;FMTTYPE=image/jpeg:https://www.urgnanoturistica.it/wp-content/uploads/2025/03/1741164528234.jpg
END:VEVENT
BEGIN:VEVENT
DTSTART;TZID=UTC:20250330T070000
DTEND;TZID=UTC:20250330T113000
DTSTAMP:20260425T110233
CREATED:20250225T100908Z
LAST-MODIFIED:20250225T100908Z
UID:9544-1743318000-1743334200@www.urgnanoturistica.it
SUMMARY:STRAURGNANO 2.0
DESCRIPTION:Domenica 30 marzo 2025\nEvento ludico motorio\nManifestazione popolare internazionale valido per il Concorso Internazionale IVV\ndi Km 6 – 12- 18 (che si snoda sul percorso permanente\nCOLLEONESCO di Urgnano) \nApertura dell’evento dalle ore 07.00\npresso la POLISPORTIVA URGNANO (Largo dello Sport 127)\nerogazione servizi sul percorso dalle ore 07\,30
URL:https://www.urgnanoturistica.it/event/straurgnano-2-0/
ATTACH;FMTTYPE=application/pdf:https://www.urgnanoturistica.it/wp-content/uploads/2025/02/Vol_Straurgnano_0225-1.pdf
END:VEVENT
END:VCALENDAR