BEGIN:VCALENDAR
VERSION:2.0
PRODID:-//Urgnano Turistica - ECPv6.5.0//NONSGML v1.0//EN
CALSCALE:GREGORIAN
METHOD:PUBLISH
X-ORIGINAL-URL:https://www.urgnanoturistica.it
X-WR-CALDESC:Eventi per Urgnano Turistica
REFRESH-INTERVAL;VALUE=DURATION:PT1H
X-Robots-Tag:noindex
X-PUBLISHED-TTL:PT1H
BEGIN:VTIMEZONE
TZID:UTC
BEGIN:STANDARD
TZOFFSETFROM:+0000
TZOFFSETTO:+0000
TZNAME:UTC
DTSTART:20250101T000000
END:STANDARD
END:VTIMEZONE
BEGIN:VEVENT
DTSTART;TZID=UTC:20250126T100000
DTEND;TZID=UTC:20250127T230000
DTSTAMP:20260425T140639
CREATED:20250117T071810Z
LAST-MODIFIED:20250117T072102Z
UID:9453-1737885600-1738018800@www.urgnanoturistica.it
SUMMARY:MEMORIE DA AUSCHWITZ
DESCRIPTION:Percorso tra arte\, storia e racconti inediti\n26 e 27 gennaio 2025 \nDOMENICA 26 GENNAIO:\n– ore 10 – 11.30: apertura mostra (ingresso gratuito)\n– ore 15.30 – 17.00: apertura mostra (ingresso gratuito) \nLUNEDI’ 27 GENNAIO:\n– ore 20 – 23: apertura mostra (ingresso gratuito)\n– ore 20.45: in sala rossa letture a tema accompagnate da musiche dal vivo
URL:https://www.urgnanoturistica.it/event/memorie-da-auschwitz/
ATTACH;FMTTYPE=application/pdf:https://www.urgnanoturistica.it/wp-content/uploads/2025/01/Cartolina-2025_PIXART_LOW_250116_133945-1.pdf
END:VEVENT
END:VCALENDAR