BEGIN:VCALENDAR
VERSION:2.0
PRODID:-//Urgnano Turistica - ECPv6.5.0//NONSGML v1.0//EN
CALSCALE:GREGORIAN
METHOD:PUBLISH
X-WR-CALNAME:Urgnano Turistica
X-ORIGINAL-URL:https://www.urgnanoturistica.it
X-WR-CALDESC:Eventi per Urgnano Turistica
REFRESH-INTERVAL;VALUE=DURATION:PT1H
X-Robots-Tag:noindex
X-PUBLISHED-TTL:PT1H
BEGIN:VTIMEZONE
TZID:UTC
BEGIN:STANDARD
TZOFFSETFROM:+0000
TZOFFSETTO:+0000
TZNAME:UTC
DTSTART:20240101T000000
END:STANDARD
END:VTIMEZONE
BEGIN:VEVENT
DTSTART;TZID=UTC:20241129T210000
DTEND;TZID=UTC:20241130T230000
DTSTAMP:20260422T221456
CREATED:20241107T104138Z
LAST-MODIFIED:20241107T104138Z
UID:9290-1732914000-1733007600@www.urgnanoturistica.it
SUMMARY:La Rocca del Mistero
DESCRIPTION:Percorso thrilling all’interno della Rocca di Urgnano
URL:https://www.urgnanoturistica.it/event/la-rocca-del-mistero/
LOCATION:Castello\, Viale rimembranze\, Urgnano\, 24059\, Italia
ATTACH;FMTTYPE=image/jpeg:https://www.urgnanoturistica.it/wp-content/uploads/2024/11/1730876169421-scaled.jpg
END:VEVENT
BEGIN:VEVENT
DTSTART;TZID=UTC:20241122T100000
DTEND;TZID=UTC:20241124T233000
DTSTAMP:20260422T221456
CREATED:20241121T125206Z
LAST-MODIFIED:20241121T125206Z
UID:9349-1732269600-1732491000@www.urgnanoturistica.it
SUMMARY:VIRGO FIDELIS
DESCRIPTION:
URL:https://www.urgnanoturistica.it/event/virgo-fidelis/
LOCATION:Castello\, Viale rimembranze\, Urgnano\, 24059\, Italia
ATTACH;FMTTYPE=image/jpeg:https://www.urgnanoturistica.it/wp-content/uploads/2024/11/Programma-VF-2024-1-scaled.jpg
END:VEVENT
BEGIN:VEVENT
DTSTART;TZID=UTC:20241117T153000
DTEND;TZID=UTC:20241117T183000
DTSTAMP:20260422T221456
CREATED:20241107T132114Z
LAST-MODIFIED:20241107T132853Z
UID:9299-1731857400-1731868200@www.urgnanoturistica.it
SUMMARY:Musical Incantato
DESCRIPTION:liberamente ispirato alla favola di “La Bella e la Bestia”
URL:https://www.urgnanoturistica.it/event/musical-incantato/
LOCATION:CINE TEATO CAGNOLA\, via roma
ATTACH;FMTTYPE=application/pdf:https://www.urgnanoturistica.it/wp-content/uploads/2024/11/BeB-Urgnano-2024.v4a2-1.pdf
END:VEVENT
BEGIN:VEVENT
DTSTART;TZID=UTC:20241115T200000
DTEND;TZID=UTC:20241117T180000
DTSTAMP:20260422T221456
CREATED:20241107T104538Z
LAST-MODIFIED:20241107T104538Z
UID:9292-1731700800-1731866400@www.urgnanoturistica.it
SUMMARY:Tavolo 0-6
DESCRIPTION:3 giorni interamente focalizzati sulla carta dei diritti dell’infanzia e dell’adolescenza adottata dall’Onu il 20/11/1989
URL:https://www.urgnanoturistica.it/event/tavolo-0-6/
ATTACH;FMTTYPE=application/pdf:https://www.urgnanoturistica.it/wp-content/uploads/2024/11/Locandina-3-giorni-Tavolo-ZeroSei-rev.241105-1.pdf
END:VEVENT
BEGIN:VEVENT
DTSTART;TZID=UTC:20241103T143000
DTEND;TZID=UTC:20241103T170000
DTSTAMP:20260422T221456
CREATED:20241023T085226Z
LAST-MODIFIED:20241023T085226Z
UID:9238-1730644200-1730653200@www.urgnanoturistica.it
SUMMARY:PERCORSI GUIDATI ALLA ROCCA ALBANI
DESCRIPTION:
URL:https://www.urgnanoturistica.it/event/percorsi-guidati-alla-rocca-albani/
LOCATION:Castello\, Viale rimembranze\, Urgnano\, 24059\, Italia
ATTACH;FMTTYPE=image/jpeg:https://www.urgnanoturistica.it/wp-content/uploads/2024/10/ROCCA-3-novembre.jpg
END:VEVENT
BEGIN:VEVENT
DTSTART;TZID=UTC:20241103T143000
DTEND;TZID=UTC:20241103T170000
DTSTAMP:20260422T221456
CREATED:20241023T085018Z
LAST-MODIFIED:20241023T085018Z
UID:9236-1730644200-1730653200@www.urgnanoturistica.it
SUMMARY:LA PRINCIPESSA\, IL MAGO E IL DRAGO
DESCRIPTION:
URL:https://www.urgnanoturistica.it/event/la-principessa-il-mago-e-il-drago-2/
LOCATION:Castello\, Viale rimembranze\, Urgnano\, 24059\, Italia
ATTACH;FMTTYPE=image/jpeg:https://www.urgnanoturistica.it/wp-content/uploads/2024/10/Mago-3-novembre-scaled.jpg
END:VEVENT
BEGIN:VEVENT
DTSTART;TZID=UTC:20241012T210000
DTEND;TZID=UTC:20241013T183000
DTSTAMP:20260422T221456
CREATED:20241007T103656Z
LAST-MODIFIED:20241007T103656Z
UID:9192-1728766800-1728844200@www.urgnanoturistica.it
SUMMARY:In Canto - Un Viaggio Straordinario
DESCRIPTION:
URL:https://www.urgnanoturistica.it/event/in-canto-un-viaggio-straordinario/
LOCATION:CINE TEATO CAGNOLA\, via roma
ATTACH;FMTTYPE=image/jpeg:https://www.urgnanoturistica.it/wp-content/uploads/2024/10/locandina-evento-12-13-ottobre.jpg
END:VEVENT
BEGIN:VEVENT
DTSTART;TZID=UTC:20241006T143000
DTEND;TZID=UTC:20241006T170000
DTSTAMP:20260422T221456
CREATED:20240917T094922Z
LAST-MODIFIED:20240917T094922Z
UID:9143-1728225000-1728234000@www.urgnanoturistica.it
SUMMARY:LA PRINCIPESSA\, IL MAGO E IL DRAGO
DESCRIPTION:Percorso scenico per i bambini all’interno della Rocca Albani durante il quale saranno chiamati\, con l’aiuto di Mago Merlino\, a liberare la principessa prigioniera del terribile drago.
URL:https://www.urgnanoturistica.it/event/la-principessa-il-mago-e-il-drago/
LOCATION:Castello\, Viale rimembranze\, Urgnano\, 24059\, Italia
ATTACH;FMTTYPE=image/jpeg:https://www.urgnanoturistica.it/wp-content/uploads/2024/09/principessa-mago-drago.jpg
END:VEVENT
BEGIN:VEVENT
DTSTART;TZID=UTC:20241006T103000
DTEND;TZID=UTC:20241006T170000
DTSTAMP:20260422T221456
CREATED:20240917T094512Z
LAST-MODIFIED:20240917T094512Z
UID:9139-1728210600-1728234000@www.urgnanoturistica.it
SUMMARY:PERCORSO GUIDATO ALLA ROCCA DI URGNANO
DESCRIPTION:Un indimenticabile viaggio nel tempo in uno tra i più incantevoli castelli della bergamasca dove riscoprire la nostra storia grazie a un percorso nelle splendide sale del nostro vecchio maniero. Con la sala dedicata a Torquato Tasso animata da un suo ritratto parlante.
URL:https://www.urgnanoturistica.it/event/percorso-guidato-alla-rocca-di-urgnano/
LOCATION:Castello\, Viale rimembranze\, Urgnano\, 24059\, Italia
ATTACH;FMTTYPE=image/jpeg:https://www.urgnanoturistica.it/wp-content/uploads/2024/09/rocca.jpg
END:VEVENT
BEGIN:VEVENT
DTSTART;TZID=UTC:20241006T100000
DTEND;TZID=UTC:20241006T113000
DTSTAMP:20260422T221456
CREATED:20240917T094754Z
LAST-MODIFIED:20240917T094754Z
UID:9141-1728208800-1728214200@www.urgnanoturistica.it
SUMMARY:IL BORGO DI URGNANO\, UN TESORO DA SCOPRIRE
DESCRIPTION:Percorso guidato nel centro storico di Urgnano con la visita dei più importanti monumenti tra i quali l’esterno della Rocca\, la chiesina della Trinità\, la via Conti Albani\, la chiesa dei Disciplini\, piazza Libertà con la parrocchiale ed il campanile del Cagnola.
URL:https://www.urgnanoturistica.it/event/il-borgo-di-urgnano-un-tesoro-da-scoprire/
ATTACH;FMTTYPE=image/jpeg:https://www.urgnanoturistica.it/wp-content/uploads/2024/09/borgo.jpg
END:VEVENT
BEGIN:VEVENT
DTSTART;TZID=UTC:20241005T210000
DTEND;TZID=UTC:20241005T230000
DTSTAMP:20260422T221456
CREATED:20240910T085332Z
LAST-MODIFIED:20240910T090053Z
UID:9095-1728162000-1728169200@www.urgnanoturistica.it
SUMMARY:IL CIELO RACCONTA...
DESCRIPTION:VISIONI E SUONI DELLA RADIOASTRONOMIA
URL:https://www.urgnanoturistica.it/event/il-cielo-racconta/
LOCATION:CINE TEATO CAGNOLA\, via roma
ATTACH;FMTTYPE=image/jpeg:https://www.urgnanoturistica.it/wp-content/uploads/2024/09/vol.-5-ottobre-il-cielo-racconta.jpg
END:VEVENT
BEGIN:VEVENT
DTSTART;TZID=UTC:20241004T203000
DTEND;TZID=UTC:20241005T233000
DTSTAMP:20260422T221456
CREATED:20240910T090455Z
LAST-MODIFIED:20240910T090455Z
UID:9106-1728073800-1728171000@www.urgnanoturistica.it
SUMMARY:ESCAPE CASTLE
DESCRIPTION:
URL:https://www.urgnanoturistica.it/event/escape-castle/
LOCATION:Castello\, Viale rimembranze\, Urgnano\, 24059\, Italia
ATTACH;FMTTYPE=image/jpeg:https://www.urgnanoturistica.it/wp-content/uploads/2024/09/escape.jpg
END:VEVENT
BEGIN:VEVENT
DTSTART;TZID=UTC:20240808T203000
DTEND;TZID=UTC:20240808T233000
DTSTAMP:20260422T221456
CREATED:20240724T081656Z
LAST-MODIFIED:20240724T081656Z
UID:9036-1723149000-1723159800@www.urgnanoturistica.it
SUMMARY:Una magica pioggia di luce "le stelle cadenti"
DESCRIPTION:Orientamento e descrizione della volta celeste e osservazione del cielo con telescopi
URL:https://www.urgnanoturistica.it/event/una-magica-pioggia-di-luce-le-stelle-cadenti/
LOCATION:Convento Padri Passionisti\, via Mons. Peruzzo\, urgnano
ATTACH;FMTTYPE=application/pdf:https://www.urgnanoturistica.it/wp-content/uploads/2024/07/vol.-8-Agosto-il-cielo-racconta.pdf
END:VEVENT
BEGIN:VEVENT
DTSTART;TZID=UTC:20240804T100000
DTEND;TZID=UTC:20240804T130000
DTSTAMP:20260422T221456
CREATED:20240802T112014Z
LAST-MODIFIED:20240802T112014Z
UID:9054-1722765600-1722776400@www.urgnanoturistica.it
SUMMARY:URGNANO DA SCOPRIRE
DESCRIPTION:DOMENICA 4 AGOSTO DALLE ORE 10.00\, TOUR DEL BORGO STORICO DI URGNANO
URL:https://www.urgnanoturistica.it/event/urgnano-da-scoprire/
LOCATION:Castello\, Viale rimembranze\, Urgnano\, 24059\, Italia
ATTACH;FMTTYPE=image/jpeg:https://www.urgnanoturistica.it/wp-content/uploads/2024/08/1722153841010.jpg
END:VEVENT
BEGIN:VEVENT
DTSTART;TZID=UTC:20240712T210000
DTEND;TZID=UTC:20240712T233000
DTSTAMP:20260422T221456
CREATED:20240711T065448Z
LAST-MODIFIED:20240711T070211Z
UID:9011-1720818000-1720827000@www.urgnanoturistica.it
SUMMARY:TRA STREGHE E STORIE
DESCRIPTION:
URL:https://www.urgnanoturistica.it/event/tra-streghe-e-stori/
LOCATION:Castello\, Viale rimembranze\, Urgnano\, 24059\, Italia
ATTACH;FMTTYPE=image/jpeg:https://www.urgnanoturistica.it/wp-content/uploads/2024/07/streghe_page-0001.jpg
END:VEVENT
BEGIN:VEVENT
DTSTART;TZID=UTC:20240704T080000
DTEND;TZID=UTC:20240714T233000
DTSTAMP:20260422T221456
CREATED:20240710T101900Z
LAST-MODIFIED:20240710T101900Z
UID:9002-1720080000-1720999800@www.urgnanoturistica.it
SUMMARY:FESTA IN ROCCA
DESCRIPTION:per il programma completo della manifestazione\, è possibile visitare il sito dell’associazione Promo Urgnano PROGRAMMA
URL:https://www.urgnanoturistica.it/event/festa-in-rocca/
LOCATION:Castello\, Viale rimembranze\, Urgnano\, 24059\, Italia
ATTACH;FMTTYPE=image/jpeg:https://www.urgnanoturistica.it/wp-content/uploads/2024/07/volantino-templari.jpg
END:VEVENT
END:VCALENDAR