BEGIN:VCALENDAR
VERSION:2.0
PRODID:-//Urgnano Turistica - ECPv6.5.0//NONSGML v1.0//EN
CALSCALE:GREGORIAN
METHOD:PUBLISH
X-WR-CALNAME:Urgnano Turistica
X-ORIGINAL-URL:https://www.urgnanoturistica.it
X-WR-CALDESC:Eventi per Urgnano Turistica
REFRESH-INTERVAL;VALUE=DURATION:PT1H
X-Robots-Tag:noindex
X-PUBLISHED-TTL:PT1H
BEGIN:VTIMEZONE
TZID:UTC
BEGIN:STANDARD
TZOFFSETFROM:+0000
TZOFFSETTO:+0000
TZNAME:UTC
DTSTART:20260101T000000
END:STANDARD
END:VTIMEZONE
BEGIN:VEVENT
DTSTART;TZID=UTC:20260429T203000
DTEND;TZID=UTC:20260429T230000
DTSTAMP:20260422T220546
CREATED:20260317T092923Z
LAST-MODIFIED:20260317T092923Z
UID:10552-1777494600-1777503600@www.urgnanoturistica.it
SUMMARY:Scrittori in rocca
DESCRIPTION:Mercoledì 29 aprile ore 20.45 \nIncontro con lo scrittore Manuel Belli e presentazione del suo libro “Le confessioni del parroco imbruttito”
URL:https://www.urgnanoturistica.it/event/scrittori-in-rocca-6/
LOCATION:Castello\, Viale rimembranze\, Urgnano\, 24059\, Italia
ATTACH;FMTTYPE=image/jpeg:https://www.urgnanoturistica.it/wp-content/uploads/2026/03/Belli.jpg
END:VEVENT
BEGIN:VEVENT
DTSTART;TZID=UTC:20260509T090000
DTEND;TZID=UTC:20260510T173000
DTSTAMP:20260422T220546
CREATED:20260414T093124Z
LAST-MODIFIED:20260414T093124Z
UID:10634-1778317200-1778434200@www.urgnanoturistica.it
SUMMARY:Imago Fabulae
DESCRIPTION:9 e 10 maggio \nScritture\, immagini e performance
URL:https://www.urgnanoturistica.it/event/imago-fabulae/
LOCATION:Castello\, Viale rimembranze\, Urgnano\, 24059\, Italia
ATTACH;FMTTYPE=image/jpeg:https://www.urgnanoturistica.it/wp-content/uploads/2026/04/LocandinaRoccaAlbaniEvento--scaled.jpg
END:VEVENT
BEGIN:VEVENT
DTSTART;TZID=UTC:20260514T203000
DTEND;TZID=UTC:20260514T230000
DTSTAMP:20260422T220546
CREATED:20260204T092217Z
LAST-MODIFIED:20260206T115848Z
UID:10452-1778790600-1778799600@www.urgnanoturistica.it
SUMMARY:Fili del tempo 2026
DESCRIPTION:Rassegna culturale tra memoria storica e temi contemporanei \nSeconda edizione della rassegna culturale “Fili del tempo 2026” organizzata dalla Rete Bibliotecaria Bergamasca con la collaborazione dell’Università degli studi di Bergamo. \nNumerose voci autorevoli condurranno i partecipanti attraverso le trame della storia e le sfide contemporanee\, offrendo prospettive illuminanti per interpretare e vivere il nostro tempo. \nGiovedì 14 maggio 2026\, ore 20.30 presso la sala conferenze del Castello Albani \n“Guelfi contro Ghibellini” con Giuliano Milani (Université Gustave Eiffel – Paris) e con l’introduzione e moderazione di Riccardo Rao (Università degli studi di Bergamo). \n 
URL:https://www.urgnanoturistica.it/event/fili-del-tempo-2026/
LOCATION:Castello\, Viale rimembranze\, Urgnano\, 24059\, Italia
ATTACH;FMTTYPE=image/jpeg:https://www.urgnanoturistica.it/wp-content/uploads/2026/02/01_26-fili-del-tempo-Locandina-singoli_DEF_loghi_00010-scaled.jpg
END:VEVENT
BEGIN:VEVENT
DTSTART;TZID=UTC:20260522T213000
DTEND;TZID=UTC:20260522T233000
DTSTAMP:20260422T220546
CREATED:20260414T093300Z
LAST-MODIFIED:20260414T093300Z
UID:10637-1779485400-1779492600@www.urgnanoturistica.it
SUMMARY:Il segreto di San Francesco
DESCRIPTION:Recitazione di antichi testi accompagnati da brani musicali al lume di candela
URL:https://www.urgnanoturistica.it/event/il-segreto-di-san-francesco/
LOCATION:Castello\, Viale rimembranze\, Urgnano\, 24059\, Italia
ATTACH;FMTTYPE=application/pdf:https://www.urgnanoturistica.it/wp-content/uploads/2026/04/locandina_il_segreto_diFrancesco-22-05-1.pdf
END:VEVENT
END:VCALENDAR