BEGIN:VCALENDAR
VERSION:2.0
PRODID:-//Urgnano Turistica - ECPv6.5.0//NONSGML v1.0//EN
CALSCALE:GREGORIAN
METHOD:PUBLISH
X-WR-CALNAME:Urgnano Turistica
X-ORIGINAL-URL:https://www.urgnanoturistica.it
X-WR-CALDESC:Eventi per Urgnano Turistica
REFRESH-INTERVAL;VALUE=DURATION:PT1H
X-Robots-Tag:noindex
X-PUBLISHED-TTL:PT1H
BEGIN:VTIMEZONE
TZID:UTC
BEGIN:STANDARD
TZOFFSETFROM:+0000
TZOFFSETTO:+0000
TZNAME:UTC
DTSTART:20250101T000000
END:STANDARD
END:VTIMEZONE
BEGIN:VEVENT
DTSTART;TZID=UTC:20260328T180000
DTEND;TZID=UTC:20260328T190000
DTSTAMP:20260422T221459
CREATED:20260319T090545Z
LAST-MODIFIED:20260319T090545Z
UID:10569-1774720800-1774724400@www.urgnanoturistica.it
SUMMARY:Presentazione del libro "Pettirosso che miri i miei occhi - Medea\, diario d'amore"
DESCRIPTION:Sabato 28 marzo\, dalle ore 18.00 circa \nPresentazione del libro “Pettirosso che miri i miei occhi – Medea\, un diario d’amore”\, di Paolo Aresi: un’opera che\, nel contesto delle celebrazioni per il 550° anniversario di Bartolomeo Colleoni\, offre una prospettiva inedita e intima\, attraverso un diario d’amore\, conducendoci nel cuore della storia colleonesca.
URL:https://www.urgnanoturistica.it/event/presentazione-del-libro-pettirosso-che-miri-i-miei-occhi-medea-diario-damore/
LOCATION:Castello\, Viale rimembranze\, Urgnano\, 24059\, Italia
ATTACH;FMTTYPE=image/jpeg:https://www.urgnanoturistica.it/wp-content/uploads/2026/03/Locandine-presentazione-libro-su-Medea-scaled.jpg
END:VEVENT
BEGIN:VEVENT
DTSTART;TZID=UTC:20260328T153000
DTEND;TZID=UTC:20260328T180000
DTSTAMP:20260422T221459
CREATED:20260319T090355Z
LAST-MODIFIED:20260319T090355Z
UID:10566-1774711800-1774720800@www.urgnanoturistica.it
SUMMARY:Inaugurazione sala "quattro stagioni"
DESCRIPTION:Sabato 28 marzo dalle ore 15.30 \nInaugurazione dei lavori di restauro della sala “quattro stagioni” e dei lacerti del cortile interno del Castello Albani. \nProgramma: \n\nsaluti istituzionali\nrelazione tecnica a cura della restauratrice sugli interventi eseguiti\nvisita guidata esclusiva alla sala delle “quattro stagioni” per ammirare i restauri
URL:https://www.urgnanoturistica.it/event/inaugurazione-sala-quattro-stagioni/
LOCATION:Castello\, Viale rimembranze\, Urgnano\, 24059\, Italia
ATTACH;FMTTYPE=image/jpeg:https://www.urgnanoturistica.it/wp-content/uploads/2026/03/LOCANDINA-INAUG.-SALA-4-ST.jpeg
END:VEVENT
BEGIN:VEVENT
DTSTART;TZID=UTC:20260307T110000
DTEND;TZID=UTC:20260307T160000
DTSTAMP:20260422T221459
CREATED:20260225T093456Z
LAST-MODIFIED:20260302T093334Z
UID:10499-1772881200-1772899200@www.urgnanoturistica.it
SUMMARY:5 passi accanto ad una donna
DESCRIPTION:Evento ludico motorio aperto a tutti \nSabato 7 marzo \nPartenza presso il Centro Sportivo alle ore 13.15 (iscrizioni dalle ore 12.45)
URL:https://www.urgnanoturistica.it/event/5-passi-accanto-ad-una-donna-2/
ATTACH;FMTTYPE=image/jpeg:https://www.urgnanoturistica.it/wp-content/uploads/2026/02/5PASSI-ACCANTO-AD-UNA-DONNA-2026-agg_260223_185652_page-0001.jpg
END:VEVENT
BEGIN:VEVENT
DTSTART;TZID=UTC:20260201T100000
DTEND;TZID=UTC:20260208T113000
DTSTAMP:20260422T221459
CREATED:20260126T121658Z
LAST-MODIFIED:20260126T121658Z
UID:10436-1769940000-1770550200@www.urgnanoturistica.it
SUMMARY:Giorno del ricordo
DESCRIPTION:Mostra fotografica presso la sala armi del Castello Albani \nOrari: \n\ndomenica 1° febbraio: dalle 10 alle 12 e dalle 15 alle 18\nda lunedì 2 febbraio a domenica 8 febbraio: dalle 10 alle 12
URL:https://www.urgnanoturistica.it/event/giorno-del-ricordo/
LOCATION:Castello\, Viale rimembranze\, Urgnano\, 24059\, Italia
ATTACH;FMTTYPE=image/jpeg:https://www.urgnanoturistica.it/wp-content/uploads/2026/01/Locandina-Urgnano-mostra-scaled.jpg
END:VEVENT
BEGIN:VEVENT
DTSTART;TZID=UTC:20260126T080000
DTEND;TZID=UTC:20260126T170000
DTSTAMP:20260422T221459
CREATED:20260126T121844Z
LAST-MODIFIED:20260126T121844Z
UID:10439-1769414400-1769446800@www.urgnanoturistica.it
SUMMARY:Giorno del ricordo
DESCRIPTION:Luoghi\, storie e memorie dell’esodo istriano\, fiumano e dalmata a Bergamo. \nmartedì 10 febbraio ore 20.30\, presso Cineteatro Cagnola\, incontro e testimonianza con un esule
URL:https://www.urgnanoturistica.it/event/giorno-del-ricordo-2/
LOCATION:CINE TEATO CAGNOLA\, via roma
ATTACH;FMTTYPE=image/jpeg:https://www.urgnanoturistica.it/wp-content/uploads/2026/01/Locandina-Urgnano-scaled.jpg
END:VEVENT
BEGIN:VEVENT
DTSTART;TZID=UTC:20251114T203000
DTEND;TZID=UTC:20251114T223000
DTSTAMP:20260422T221459
CREATED:20250916T085505Z
LAST-MODIFIED:20250916T085505Z
UID:10240-1763152200-1763159400@www.urgnanoturistica.it
SUMMARY:Rassegna culturale “Urgnano\, tra passato e futuro”
DESCRIPTION:Venerdì 14 novembre 2025 \nore 20.45 – Castello Albani \n  \n“LE INTELLIGENZE ARTIFICIALI” \na cura del dott. Ugo Benini \n  \nUna serata di approfondimento sulle Intelligenze Artificiali. \nAnalizzeremo le diverse forme di IA\, dalle reti neurali al machine learning\, discutendo delle loro applicazioni in settori chiave come la sanità\, l’industria e la creatività.
URL:https://www.urgnanoturistica.it/event/rassegna-culturale-urgnano-tra-passato-e-futuro-7/
LOCATION:Castello\, Viale rimembranze\, Urgnano\, 24059\, Italia
ATTACH;FMTTYPE=image/jpeg:https://www.urgnanoturistica.it/wp-content/uploads/2025/09/evento-14-novembre.jpg
END:VEVENT
BEGIN:VEVENT
DTSTART;TZID=UTC:20251107T203000
DTEND;TZID=UTC:20251107T223000
DTSTAMP:20260422T221459
CREATED:20250916T085335Z
LAST-MODIFIED:20250916T120456Z
UID:10237-1762547400-1762554600@www.urgnanoturistica.it
SUMMARY:Rassegna culturale “Urgnano\, tra passato e futuro”
DESCRIPTION:Venerdì 7 novembre 2025 \nore 20.45 – Castello Albani \n  \n“INTELLIGENZA ARTIFICIALE: DIAVOLO O ACQUASANTA?” \na cura di Monsignor Giulio Dellavite \n  \nSerata dedicata ad esplorare le questioni etiche sollevate dall’uso sempre più diffuso dell’Intelligenza Artificiale. \nUna riflessione per capire come approcciarsi a questo strumento\, come arricchirsi degli aspetti positivi\, proteggersi dai rischi e accoglierne le sfide.
URL:https://www.urgnanoturistica.it/event/rassegna-culturale-urgnano-tra-passato-e-futuro-6/
LOCATION:Castello\, Viale rimembranze\, Urgnano\, 24059\, Italia
ATTACH;FMTTYPE=image/jpeg:https://www.urgnanoturistica.it/wp-content/uploads/2025/09/evento-7-novembre.jpg
END:VEVENT
BEGIN:VEVENT
DTSTART;TZID=UTC:20251104T203000
DTEND;TZID=UTC:20251104T230000
DTSTAMP:20260422T221459
CREATED:20251023T105930Z
LAST-MODIFIED:20251023T105930Z
UID:10339-1762288200-1762297200@www.urgnanoturistica.it
SUMMARY:"Qualche volta abbiamo anche cantato"
DESCRIPTION:Spettacolo di musica e teatro sulla grande guerra a cura dell’Associazione “Piccola orchestra Karasciò” \nMartedì 4 novembre ore 20.30 presso Cine Teatro Cagnola di Urgnano
URL:https://www.urgnanoturistica.it/event/qualche-volta-abbiamo-anche-cantato/
LOCATION:CINE TEATO CAGNOLA\, via roma
ATTACH;FMTTYPE=image/jpeg:https://www.urgnanoturistica.it/wp-content/uploads/2025/10/IMG-20251022-WA0009.jpg
END:VEVENT
BEGIN:VEVENT
DTSTART;TZID=UTC:20251024T203000
DTEND;TZID=UTC:20251024T223000
DTSTAMP:20260422T221459
CREATED:20251017T092057Z
LAST-MODIFIED:20251017T092057Z
UID:10326-1761337800-1761345000@www.urgnanoturistica.it
SUMMARY:Rassegna culturale “Urgnano\, tra passato e futuro”
DESCRIPTION:Venerdì 24 ottobre 2025 \nore 20.45 – Castello Albani \n  \n“NANO ROBOTICA E L’INTELLIGENZA ARTIFICIALE” \na cura del prof. Edoardo Fleischner \n  \nUna serata di approfondimento dedicata a due delle discipline più rivoluzionarie del nostro tempo: la nano robotica e l’intelligenza artificiale. \nEsploreremo insieme come questi campi all’avanguardia stanno già cambiando il nostro mondo. \nSarà un viaggio affascinante tra innovazione e possibilità future\, per capire come la tecnologia sta disegnando il nostro domani.
URL:https://www.urgnanoturistica.it/event/rassegna-culturale-urgnano-tra-passato-e-futuro-8/
LOCATION:Castello\, Viale rimembranze\, Urgnano\, 24059\, Italia
ATTACH;FMTTYPE=image/jpeg:https://www.urgnanoturistica.it/wp-content/uploads/2025/10/evento-24-ottobre-new.jpg
END:VEVENT
BEGIN:VEVENT
DTSTART;TZID=UTC:20251024T203000
DTEND;TZID=UTC:20251024T223000
DTSTAMP:20260422T221459
CREATED:20250916T085041Z
LAST-MODIFIED:20250916T085844Z
UID:10233-1761337800-1761345000@www.urgnanoturistica.it
SUMMARY:Rassegna culturale “Urgnano\, tra passato e futuro”
DESCRIPTION:Venerdì 24 ottobre 2025 \nore 20.45 – Castello Albani \n  \n“NANO ROBOTICA E L’INTELLIGENZA ARTIFICIALE” \na cura del prof. Edoardo Fleischner \n  \nUna serata di approfondimento dedicata a due delle discipline più rivoluzionarie del nostro tempo: la nano robotica e l’intelligenza artificiale. \nEsploreremo insieme come questi campi all’avanguardia stanno già cambiando il nostro mondo. \nSarà un viaggio affascinante tra innovazione e possibilità future\, per capire come la tecnologia sta disegnando il nostro domani.
URL:https://www.urgnanoturistica.it/event/rassegna-culturale-urgnano-tra-passato-e-futuro-5/
LOCATION:Castello\, Viale rimembranze\, Urgnano\, 24059\, Italia
ATTACH;FMTTYPE=image/jpeg:https://www.urgnanoturistica.it/wp-content/uploads/2025/09/evento-24-ottobre.jpg
END:VEVENT
BEGIN:VEVENT
DTSTART;TZID=UTC:20251017T183000
DTEND;TZID=UTC:20251017T200000
DTSTAMP:20260422T221459
CREATED:20250916T084807Z
LAST-MODIFIED:20250916T120721Z
UID:10230-1760725800-1760731200@www.urgnanoturistica.it
SUMMARY:Rassegna culturale “Urgnano\, tra passato e futuro”
DESCRIPTION:Venerdì 17 ottobre 2025 \nore 18.30 – presso Azienda Miti Spa \n  \n“INTELLIGENZA ARTIFICIALE E MANIFATTURA” \na cura del prof. Edoardo Fleischner \n  \nL’evento si concentrerà sull’impatto dell’Intelligenza Artificiale nelle realtà imprenditoriali manifatturiere e sui cambiamenti che ciò comporterà nei processi produttivi\, nel mercato del lavoro e nella formazione.
URL:https://www.urgnanoturistica.it/event/rassegna-culturale-urgnano-tra-passato-e-futuro-4/
ATTACH;FMTTYPE=image/jpeg:https://www.urgnanoturistica.it/wp-content/uploads/2025/09/evento-17-ottobre.jpg
END:VEVENT
BEGIN:VEVENT
DTSTART;TZID=UTC:20251010T203000
DTEND;TZID=UTC:20251010T223000
DTSTAMP:20260422T221459
CREATED:20250916T084608Z
LAST-MODIFIED:20250916T134137Z
UID:10226-1760128200-1760135400@www.urgnanoturistica.it
SUMMARY:Rassegna culturale “Urgnano\, tra passato e futuro”
DESCRIPTION:Venerdì 10 ottobre 2025 \nore 20.45 – Castello Albani \n  \n“GLI URGNANESI E IL BOMBARDAMENTO DI DALMINE DEL 1944” \na cura dell’Associazione Storica Dalminese \n  \nUn incontro per non dimenticare una delle pagine più drammatiche della storia di Dalmine. \nRivivremo\, attraverso testimonianze e documenti\, il tragico bombardamento del 6 luglio 1944\, che costò la vita a centinaia di persone\, tra civili e operai anche di Urgnano. \nUn momento di ricordo e riflessione per onorare il sacrificio delle vittime e mantenere viva la memoria storica.
URL:https://www.urgnanoturistica.it/event/rassegna-culturale-urgnano-tra-passato-e-futuro-3/
LOCATION:Castello\, Viale rimembranze\, Urgnano\, 24059\, Italia
ATTACH;FMTTYPE=image/jpeg:https://www.urgnanoturistica.it/wp-content/uploads/2025/09/evento-10-ottobre-.jpg
END:VEVENT
BEGIN:VEVENT
DTSTART;TZID=UTC:20251005T143000
DTEND;TZID=UTC:20251005T180000
DTSTAMP:20260422T221459
CREATED:20251001T105917Z
LAST-MODIFIED:20251001T105917Z
UID:10287-1759674600-1759687200@www.urgnanoturistica.it
SUMMARY:LA PRINCIPESSA\, IL MAGO E IL DRAGO
DESCRIPTION:Percorso scenico per i bambini all’interno della Rocca Albani durante il quale saranno chiamati\, con l’aiuto di Mago Merlino\, a liberare la principessa prigioniera del terribile drago.
URL:https://www.urgnanoturistica.it/event/la-principessa-il-mago-e-il-drago-5/
LOCATION:Castello\, Viale rimembranze\, Urgnano\, 24059\, Italia
ATTACH;FMTTYPE=image/png:https://www.urgnanoturistica.it/wp-content/uploads/2025/10/Mago.png
END:VEVENT
BEGIN:VEVENT
DTSTART;TZID=UTC:20251005T103000
DTEND;TZID=UTC:20251005T180000
DTSTAMP:20260422T221459
CREATED:20251001T110121Z
LAST-MODIFIED:20251001T110121Z
UID:10289-1759660200-1759687200@www.urgnanoturistica.it
SUMMARY:PERCORSI GUIDATI ALLA ROCCA ALBANI
DESCRIPTION:Un indimenticabile viaggio nel tempo in uno tra i più incantevoli castelli della bergamasca dove riscoprire la nostra storia grazie a un percorso nelle splendide sale del nostro vecchio maniero. Con la sala dedicata a Torquato Tasso animata da un suo ritratto parlante.
URL:https://www.urgnanoturistica.it/event/percorsi-guidati-alla-rocca-albani-3/
LOCATION:Castello\, Viale rimembranze\, Urgnano\, 24059\, Italia
ATTACH;FMTTYPE=image/jpeg:https://www.urgnanoturistica.it/wp-content/uploads/2025/10/ROCCA-5-ottobre.jpg
END:VEVENT
BEGIN:VEVENT
DTSTART;TZID=UTC:20251005T100000
DTEND;TZID=UTC:20251005T233000
DTSTAMP:20260422T221459
CREATED:20251001T105248Z
LAST-MODIFIED:20251001T105248Z
UID:10285-1759658400-1759707000@www.urgnanoturistica.it
SUMMARY:IL BORGO DI URGNANO
DESCRIPTION:Un tesoro da scoprire \n 
URL:https://www.urgnanoturistica.it/event/il-borgo-di-urgnano-2/
LOCATION:Castello\, Viale rimembranze\, Urgnano\, 24059\, Italia
ATTACH;FMTTYPE=image/jpeg:https://www.urgnanoturistica.it/wp-content/uploads/2025/10/borgo-5-ottobre.jpg
END:VEVENT
BEGIN:VEVENT
DTSTART;TZID=UTC:20251004T203000
DTEND;TZID=UTC:20251004T223000
DTSTAMP:20260422T221459
CREATED:20250916T084358Z
LAST-MODIFIED:20250916T084358Z
UID:10223-1759609800-1759617000@www.urgnanoturistica.it
SUMMARY:Rassegna culturale “Urgnano\, tra passato e futuro”
DESCRIPTION:Sabato 4 ottobre 2025 \nore 20.45 – Castello Albani \n  \n“URGNANO E BASELLA IN FOTOGRAFIA” \na cura degli autori Alessandro Gavazzi e Vincenzo Mazzoleni \n  \nSerata dedicata alla presentazione del libro che racconta Urgnano e Basella in un modo unico: attraverso la fotografia. \n“Urgnano e Basella in fotografica” non è solo un libro\, ma una raccolta di emozioni e ricordi in bianco e nero\, un ponte tra passato e presente.
URL:https://www.urgnanoturistica.it/event/rassegna-culturale-urgnano-tra-passato-e-futuro-2/
LOCATION:Castello\, Viale rimembranze\, Urgnano\, 24059\, Italia
ATTACH;FMTTYPE=image/jpeg:https://www.urgnanoturistica.it/wp-content/uploads/2025/09/evento-4-ottobre.jpg
END:VEVENT
BEGIN:VEVENT
DTSTART;TZID=UTC:20251003T203000
DTEND;TZID=UTC:20251003T223000
DTSTAMP:20260422T221459
CREATED:20250916T071850Z
LAST-MODIFIED:20250916T071850Z
UID:10202-1759523400-1759530600@www.urgnanoturistica.it
SUMMARY:Rassegna culturale "Urgnano\, tra passato e futuro"
DESCRIPTION:Venerdì 3 ottobre 2025 \nore 20.45 – Castello Albani \n“CERCANDO RADICI. ALLA SCOPERTA DEI NOSTRI ANTENATI” \na cura del Dott. Matteo Borelli \n  \nUn incontro per avvicinarsi alla Genealogia e alla storia di famiglia. \nVerranno approfondite le basi della ricerca\, dall’utilizzo degli archivi alle risorse online\, con particolare attenzione al territorio di Urgnano e della provincia di Bergamo. \nUn’occasione per imparare a costruire l’albero genealogico.
URL:https://www.urgnanoturistica.it/event/rassegna-culturale-urgnano-tra-passato-e-futuro/
LOCATION:Castello\, Viale rimembranze\, Urgnano\, 24059\, Italia
ATTACH;FMTTYPE=image/jpeg:https://www.urgnanoturistica.it/wp-content/uploads/2025/09/evento-3-ottobre.jpg
END:VEVENT
BEGIN:VEVENT
DTSTART;TZID=UTC:20250916T180000
DTEND;TZID=UTC:20250916T200000
DTSTAMP:20260422T221459
CREATED:20250904T102910Z
LAST-MODIFIED:20250904T102910Z
UID:10179-1758045600-1758052800@www.urgnanoturistica.it
SUMMARY:Gioco da tavolo "Assedio al Colleoni"
DESCRIPTION:Conferenza stampa per presentazione gioco \nmartedì 16 settembre ore 18 presso la sala Rossa del Castello Albani. \nIn occasione del 550° anniversario della morte di Bartolomeo Colleoni\, sarà presentato il nuovo gioco da tavolo “Assedio al Colleoni”: un affascinante viaggio attraverso la vita del celebre capitano di ventura\, i luoghi che ne hanno segnato la carriera e i feudi che hanno costituito il suo potere.
URL:https://www.urgnanoturistica.it/event/gioco-da-tavolo-assedio-al-colleoni/
LOCATION:Castello\, Viale rimembranze\, Urgnano\, 24059\, Italia
ATTACH;FMTTYPE=image/jpeg:https://www.urgnanoturistica.it/wp-content/uploads/2025/09/locandina.jpg
END:VEVENT
BEGIN:VEVENT
DTSTART;TZID=UTC:20250703T080000
DTEND;TZID=UTC:20250713T170000
DTSTAMP:20260422T221459
CREATED:20250701T105645Z
LAST-MODIFIED:20250701T105645Z
UID:10099-1751529600-1752426000@www.urgnanoturistica.it
SUMMARY:Festa in Rocca 2025 - Colleoni Il Grande Condottiero
DESCRIPTION:Urgnano si prepara ad accogliere “Colleoni il Grande Condottiero” – 43ª Edizione!\n  \nDal 03 al 13 Luglio 2025\, la Rocca di Urgnano si animerà per la 43ª edizione di “Colleoni il Grande Condottiero”\, un evento imperdibile che rievoca la figura del celebre condottiero e la sua epoca. \nPreparatevi a un viaggio affascinante nel Medioevo\, dove storia\, spettacolo e intrattenimento si fonderanno per regalarvi un’esperienza unica. La manifestazione\, ormai un appuntamento fisso nel calendario estivo di Urgnano\, offrirà un programma ricco e variegato per visitatori di tutte le età. \nCosa vi aspetta alla Festa in Rocca: \n\nSfilate Storiche: Ammirate costumi d’epoca e figuranti che riporteranno in vita le atmosfere del Quattrocento.\nPercorsi Guidati nella Rocca con Scene dal Vivo e Ologrammi: Esplorate gli ambienti suggestivi della Rocca\, accompagnati da rievocazioni storiche e proiezioni olografiche che vi faranno immergere nelle vicende del condottiero.\nAssedio al Castello: Lasciatevi coinvolgere da spettacolari simulazioni di assedi\, che vi faranno rivivere le tensioni e le strategie militari dell’epoca.\nAccampamento Medievale: Passeggiate tra le tende di un vero accampamento medievale\, osservando da vicino la vita quotidiana\, gli usi e i mestieri del tempo.\nAnimazione per Bambini: I più piccoli potranno divertirsi con attività e giochi pensati appositamente per loro\, per un approccio ludico alla storia.\nGrande Area Ristoro: Gustate le specialità locali e tradizionali nella vasta area ristoro\, per una pausa gustosa tra un’attività e l’altra.\nCover Musicali: Serate all’insegna della musica dal vivo\, con esibizioni che allieteranno le vostre serate.\nSerate Danzanti: Non mancheranno momenti dedicati al ballo\, per chi desidera lasciarsi trasportare dal ritmo e dalla convivialità.\nSpettacoli Medievali: Assisterete a performance e spettacoli che rievocano tradizioni e arti del Medioevo.\nGiochi di Bandiere: Ammirate l’abilità e la coordinazione dei gruppi di sbandieratori in suggestive esibizioni.\n\n“Colleoni il Grande Condottiero” è l’occasione perfetta per scoprire o riscoprire la storia di Urgnano e del suo territorio\, in un’atmosfera di festa e condivisione. Non mancate a questo straordinario appuntamento con il passato! \nVi aspettiamo numerosi alla Rocca di Urgnano\, dal 03 al 13 Luglio 2025! \n\nScarica il programma Completo: Programma Completo Festa in Rocca 2025
URL:https://www.urgnanoturistica.it/event/festa-in-rocca-2025-colleoni-il-grande-condottiero/
ATTACH;FMTTYPE=image/jpeg:https://www.urgnanoturistica.it/wp-content/uploads/2025/07/manifesto_totale-scaled.jpg
END:VEVENT
BEGIN:VEVENT
DTSTART;TZID=UTC:20250622T090000
DTEND;TZID=UTC:20250622T113000
DTSTAMP:20260422T221459
CREATED:20250530T085146Z
LAST-MODIFIED:20250530T085146Z
UID:10015-1750582800-1750591800@www.urgnanoturistica.it
SUMMARY:TRA BORGHI E CASTELLI
DESCRIPTION:La ciclostorica dei castelli bergamaschi
URL:https://www.urgnanoturistica.it/event/tra-borghi-e-castelli/
LOCATION:Castello\, Viale rimembranze\, Urgnano\, 24059\, Italia
ATTACH;FMTTYPE=application/pdf:https://www.urgnanoturistica.it/wp-content/uploads/2025/05/bc_locandina2025_urgnano-1.pdf
END:VEVENT
BEGIN:VEVENT
DTSTART;TZID=UTC:20250601T143000
DTEND;TZID=UTC:20250601T180000
DTSTAMP:20260422T221459
CREATED:20250519T104220Z
LAST-MODIFIED:20250519T104220Z
UID:9909-1748788200-1748800800@www.urgnanoturistica.it
SUMMARY:LA PRINCIPESSA\, IL MAGO E IL DRAGO
DESCRIPTION:Percorso scenico per i bambini all’interno della Rocca Albani durante il quale saranno chiamati\, con l’aiuto di Mago Merlino\, a liberare la principessa prigioniera del terribile drago.
URL:https://www.urgnanoturistica.it/event/la-principessa-il-mago-e-il-drago-4/
LOCATION:Castello\, Viale rimembranze\, Urgnano\, 24059\, Italia
ATTACH;FMTTYPE=image/png:https://www.urgnanoturistica.it/wp-content/uploads/2025/05/Mago-1-Giugno.png
END:VEVENT
BEGIN:VEVENT
DTSTART;TZID=UTC:20250601T103000
DTEND;TZID=UTC:20250601T180000
DTSTAMP:20260422T221459
CREATED:20250519T104337Z
LAST-MODIFIED:20250519T104337Z
UID:9912-1748773800-1748800800@www.urgnanoturistica.it
SUMMARY:PERCORSI GUIDATI ALLA ROCCA ALBANI
DESCRIPTION:Un indimenticabile viaggio nel tempo in uno tra i più incantevoli castelli della bergamasca dove riscoprire la nostra storia grazie a un percorso nelle splendide sale del nostro vecchio maniero. Con la sala dedicata a Torquato Tasso animata da un suo ritratto parlante.
URL:https://www.urgnanoturistica.it/event/percorsi-guidati-alla-rocca-albani-2/
LOCATION:Castello\, Viale rimembranze\, Urgnano\, 24059\, Italia
ATTACH;FMTTYPE=image/jpeg:https://www.urgnanoturistica.it/wp-content/uploads/2025/05/ROCCA-1-giugno.jpg
END:VEVENT
BEGIN:VEVENT
DTSTART;TZID=UTC:20250601T100000
DTEND;TZID=UTC:20250601T233000
DTSTAMP:20260422T221459
CREATED:20250519T104025Z
LAST-MODIFIED:20250519T104025Z
UID:9904-1748772000-1748820600@www.urgnanoturistica.it
SUMMARY:IL BORGO DI URGNANO
DESCRIPTION:Un tesoro da scoprire \n 
URL:https://www.urgnanoturistica.it/event/il-borgo-di-urgnano/
LOCATION:Castello\, Viale rimembranze\, Urgnano\, 24059\, Italia
ATTACH;FMTTYPE=image/jpeg:https://www.urgnanoturistica.it/wp-content/uploads/2025/05/borgo-1-giugno.jpg
END:VEVENT
BEGIN:VEVENT
DTSTART;TZID=UTC:20250516T183000
DTEND;TZID=UTC:20250518T130000
DTSTAMP:20260422T221459
CREATED:20250513T090840Z
LAST-MODIFIED:20250513T090840Z
UID:9869-1747420200-1747573200@www.urgnanoturistica.it
SUMMARY:DONNA E'
DESCRIPTION:Sport\, Arte\, Cultura\, Musica e Wellness a tinte rosa
URL:https://www.urgnanoturistica.it/event/donna-e/
ATTACH;FMTTYPE=image/jpeg:https://www.urgnanoturistica.it/wp-content/uploads/2025/05/Locandina-Donna-E-2025.jpg
END:VEVENT
BEGIN:VEVENT
DTSTART;TZID=UTC:20250501T100000
DTEND;TZID=UTC:20250501T183000
DTSTAMP:20260422T221459
CREATED:20250428T065652Z
LAST-MODIFIED:20250428T065652Z
UID:9764-1746093600-1746124200@www.urgnanoturistica.it
SUMMARY:PIC NIC IN ROCCA
DESCRIPTION:1 maggio 2025 dalle ore 10.00: \n– visite al castello\n– la principessa\, il mago e il drago (percorso per bambini)\n– salita guidata alla torre campanaria\n– giochi antichi\n– pic nic
URL:https://www.urgnanoturistica.it/event/pic-nic-in-rocca/
LOCATION:Castello\, Viale rimembranze\, Urgnano\, 24059\, Italia
ATTACH;FMTTYPE=image/jpeg:https://www.urgnanoturistica.it/wp-content/uploads/2025/04/Locandina-PIC-NIC-2025-scaled.jpg
END:VEVENT
BEGIN:VEVENT
DTSTART;TZID=UTC:20250416T203000
DTEND;TZID=UTC:20250416T223000
DTSTAMP:20260422T221459
CREATED:20250402T095546Z
LAST-MODIFIED:20250402T095546Z
UID:9672-1744835400-1744842600@www.urgnanoturistica.it
SUMMARY:SCRITTORI IN ROCCA
DESCRIPTION:Mercoledì 16 aprile ore 20.45 \nIncontro con lo scrittore Alberto Locatelli e presentazione del suo libro “Airù”.
URL:https://www.urgnanoturistica.it/event/scrittori-in-rocca-3/
LOCATION:Castello\, Viale rimembranze\, Urgnano\, 24059\, Italia
ATTACH;FMTTYPE=image/jpeg:https://www.urgnanoturistica.it/wp-content/uploads/2025/04/Locatelli.jpg
END:VEVENT
BEGIN:VEVENT
DTSTART;TZID=UTC:20250409T203000
DTEND;TZID=UTC:20250409T223000
DTSTAMP:20260422T221459
CREATED:20250402T095425Z
LAST-MODIFIED:20250402T095425Z
UID:9669-1744230600-1744237800@www.urgnanoturistica.it
SUMMARY:SCRITTORI IN ROCCA
DESCRIPTION:Mercoledì 9 aprile ore 20.45 \nIncontro con lo scrittore Luca Mercadante e presentazione del suo libro “La fame del cigno”.
URL:https://www.urgnanoturistica.it/event/scrittori-in-rocca-2/
LOCATION:Castello\, Viale rimembranze\, Urgnano\, 24059\, Italia
ATTACH;FMTTYPE=image/jpeg:https://www.urgnanoturistica.it/wp-content/uploads/2025/04/Mercadante.jpg
END:VEVENT
BEGIN:VEVENT
DTSTART;TZID=UTC:20250406T143000
DTEND;TZID=UTC:20250406T170000
DTSTAMP:20260422T221459
CREATED:20250326T112636Z
LAST-MODIFIED:20250326T112636Z
UID:9633-1743949800-1743958800@www.urgnanoturistica.it
SUMMARY:LA PRINCIPESSA\, IL MAGO E IL DRAGO
DESCRIPTION:Percorso scenico per i bambini all’interno della Rocca Albani durante il quale saranno chiamati\, con l’aiuto di Mago Merlino\, a liberare la principessa prigioniera del terribile drago. \nOrari: ore 14\,45 – 15\,45 e 16\,45 con ingresso dalla torre Nord della Rocca Albani \nPRENOTAZIONE consigliata – Tel. 333 2254255  \nMail: prenotazioni@associazionepromourgnano.it
URL:https://www.urgnanoturistica.it/event/la-principessa-il-mago-e-il-drago-3/
LOCATION:Castello\, Viale rimembranze\, Urgnano\, 24059\, Italia
ATTACH;FMTTYPE=image/png:https://www.urgnanoturistica.it/wp-content/uploads/2025/03/mago-6-aprile.png
END:VEVENT
BEGIN:VEVENT
DTSTART;TZID=UTC:20250406T103000
DTEND;TZID=UTC:20250406T170000
DTSTAMP:20260422T221459
CREATED:20250326T112223Z
LAST-MODIFIED:20250326T112223Z
UID:9627-1743935400-1743958800@www.urgnanoturistica.it
SUMMARY:PERCORSO GUIDATO ALLA ROCCA ALBANI
DESCRIPTION:Un indimenticabile viaggio nel tempo in uno tra i più incantevoli castelli della bergamasca dove riscoprire la nostra storia grazie a un percorso nelle splendide sale del nostro vecchio maniero. Con la sala dedicata a Torquato Tasso animata da un suo ritratto parlante. \nOrari: ore  10.30 – 14\,30 – 15\,00 – 15\,30 – 16\,00 – 16\,30 – 17\,00 con ritrovo presso l’ingresso  della Rocca Albani \nPRENOTAZIONE consigliata – Tel. 333 2254255 \n Mail: prenotazioni@associazionepromourgnano.it
URL:https://www.urgnanoturistica.it/event/percorso-guidato-alla-rocca-albani/
LOCATION:Castello\, Viale rimembranze\, Urgnano\, 24059\, Italia
ATTACH;FMTTYPE=image/jpeg:https://www.urgnanoturistica.it/wp-content/uploads/2025/03/percorsi-6-aprile.jpg
END:VEVENT
BEGIN:VEVENT
DTSTART;TZID=UTC:20250406T100000
DTEND;TZID=UTC:20250406T230000
DTSTAMP:20260422T221459
CREATED:20250326T112459Z
LAST-MODIFIED:20250326T112459Z
UID:9631-1743933600-1743980400@www.urgnanoturistica.it
SUMMARY:IL BORGO DI URGNANO: un tesoro da scoprire
DESCRIPTION:Percorso guidato nel centro storico di Urgnano con la visita dei più importanti monumenti tra i quali l’esterno della Rocca\, la chiesina della Trinità\, la via Conti Albani\, la chiesa dei Disciplini\, piazza Libertà con la parrocchiale ed il campanile del Cagnola. \nOrari: ore 10\,00 con ritrovo presso l’ingresso Nord della Rocca Albani \nPRENOTAZIONE consigliata – Tel. 333 2254255 \nMail: prenotazioni@associazionepromourgnano.it
URL:https://www.urgnanoturistica.it/event/il-borgo-di-urgnano-un-tesoro-da-scoprire-2/
LOCATION:Comune
ATTACH;FMTTYPE=image/jpeg:https://www.urgnanoturistica.it/wp-content/uploads/2025/03/borgo-6-aprile.jpg
END:VEVENT
END:VCALENDAR