BEGIN:VCALENDAR
VERSION:2.0
PRODID:-//Urgnano Turistica - ECPv6.5.0//NONSGML v1.0//EN
CALSCALE:GREGORIAN
METHOD:PUBLISH
X-WR-CALNAME:Urgnano Turistica
X-ORIGINAL-URL:https://www.urgnanoturistica.it
X-WR-CALDESC:Eventi per Urgnano Turistica
REFRESH-INTERVAL;VALUE=DURATION:PT1H
X-Robots-Tag:noindex
X-PUBLISHED-TTL:PT1H
BEGIN:VTIMEZONE
TZID:UTC
BEGIN:STANDARD
TZOFFSETFROM:+0000
TZOFFSETTO:+0000
TZNAME:UTC
DTSTART:20260101T000000
END:STANDARD
END:VTIMEZONE
BEGIN:VEVENT
DTSTART;TZID=UTC:20260314T080000
DTEND;TZID=UTC:20260906T190000
DTSTAMP:20260422T135115
CREATED:20260312T155338Z
LAST-MODIFIED:20260312T155338Z
UID:10520-1773475200-1788721200@www.urgnanoturistica.it
SUMMARY:Le chiavi del tempo
DESCRIPTION:Gioca con la storia\, vivi la cultura. \nUn’iniziativa diffusa dedicata ai giovani e alle famiglie che trasforma borghi e castelli in luoghi di cultura viva\, intrecciando tradizione e innovazione. \nPer informazioni: \nwww.pianuradascoprire.it \ninfo@pianuradascoprire.it
URL:https://www.urgnanoturistica.it/event/le-chiavi-del-tempo/
LOCATION:Castello\, Viale rimembranze\, Urgnano\, 24059\, Italia
ATTACH;FMTTYPE=image/jpeg:https://www.urgnanoturistica.it/wp-content/uploads/2026/03/Palinsesto-retro.jpeg
END:VEVENT
BEGIN:VEVENT
DTSTART;TZID=UTC:20260425T103000
DTEND;TZID=UTC:20260425T170000
DTSTAMP:20260422T135115
CREATED:20260408T093430Z
LAST-MODIFIED:20260408T093430Z
UID:10599-1777113000-1777136400@www.urgnanoturistica.it
SUMMARY:Percorso guidato alla Rocca Albani
DESCRIPTION:Un indimenticabile viaggio nel tempo in uno tra i più incantevoli castelli della bergamasca dove riscoprire la nostra storia grazie a un percorso nelle splendide sale del nostro vecchio maniero. Con la visita alla sala delle 4 stagioni appena restaurata. \nOrari: ore 10\,30 – 14\,30 – 15\,00 – 15\,30 – 16\,00 – 16\,30 – 17\,00 con ritrovo presso l’ingresso  della Rocca Albani \nPRENOTAZIONE consigliata – Tel. 333 2254255 \nMail: prenotazioni@associazionepromourgnano.it \nNB.: Le prenotazioni sono da ritenersi valide solo dopo nostra conferma agli interessati
URL:https://www.urgnanoturistica.it/event/percorso-guidato-alla-rocca-albani-3/
LOCATION:Castello\, Viale rimembranze\, Urgnano\, 24059\, Italia
ATTACH;FMTTYPE=image/jpeg:https://www.urgnanoturistica.it/wp-content/uploads/2026/04/ROCCA-25-aprile-A3.jpeg
END:VEVENT
BEGIN:VEVENT
DTSTART;TZID=UTC:20260425T143000
DTEND;TZID=UTC:20260425T170000
DTSTAMP:20260422T135115
CREATED:20260408T093622Z
LAST-MODIFIED:20260408T093622Z
UID:10602-1777127400-1777136400@www.urgnanoturistica.it
SUMMARY:Salita alla torre campanaria del Cagnola
DESCRIPTION:Apertura straordinaria dalle 14:30 alle 17:00. \nUn’occasione unica per salire sulla torre campanaria del Cagnola e godere di una suggestiva vista panoramica su Urgnano e l’intera Media Pianura Bergamasca.
URL:https://www.urgnanoturistica.it/event/salita-alla-torre-campanaria-del-cagnola/
LOCATION:Castello\, Viale rimembranze\, Urgnano\, 24059\, Italia
ATTACH;FMTTYPE=image/jpeg:https://www.urgnanoturistica.it/wp-content/uploads/2026/04/campanile-25-aprile.jpeg
END:VEVENT
BEGIN:VEVENT
DTSTART;TZID=UTC:20260425T144500
DTEND;TZID=UTC:20260425T183000
DTSTAMP:20260422T135115
CREATED:20260414T092958Z
LAST-MODIFIED:20260414T092958Z
UID:10631-1777128300-1777141800@www.urgnanoturistica.it
SUMMARY:Una corona per due
DESCRIPTION:Percorso che vede due principi contendersi\, tra giochi e sfide\, il regno e la mano della sfuggente principessa. Chi si aggiudicherà la corona? \nEtà consigliata: 5 – 10 anni. \nOrari: ore 14\,45 – 15\,45 e 16\,45 con ingresso dalla torre Nord della Rocca Albani \nPRENOTAZIONE consigliata – Tel. 333 2254255 \nMail: prenotazioni@associazionepromourgnano.it
URL:https://www.urgnanoturistica.it/event/una-corona-per-due/
LOCATION:Castello\, Viale rimembranze\, Urgnano\, 24059\, Italia
ATTACH;FMTTYPE=image/jpeg:https://www.urgnanoturistica.it/wp-content/uploads/2026/04/UNA-CORONA-PER-DUE-25-aprile.jpg
END:VEVENT
END:VCALENDAR