BEGIN:VCALENDAR
VERSION:2.0
PRODID:-//Urgnano Turistica - ECPv6.5.0//NONSGML v1.0//EN
CALSCALE:GREGORIAN
METHOD:PUBLISH
X-WR-CALNAME:Urgnano Turistica
X-ORIGINAL-URL:https://www.urgnanoturistica.it
X-WR-CALDESC:Eventi per Urgnano Turistica
REFRESH-INTERVAL;VALUE=DURATION:PT1H
X-Robots-Tag:noindex
X-PUBLISHED-TTL:PT1H
BEGIN:VTIMEZONE
TZID:UTC
BEGIN:STANDARD
TZOFFSETFROM:+0000
TZOFFSETTO:+0000
TZNAME:UTC
DTSTART:20260101T000000
END:STANDARD
END:VTIMEZONE
BEGIN:VEVENT
DTSTART;TZID=UTC:20260201T100000
DTEND;TZID=UTC:20260208T113000
DTSTAMP:20260422T170408
CREATED:20260126T121658Z
LAST-MODIFIED:20260126T121658Z
UID:10436-1769940000-1770550200@www.urgnanoturistica.it
SUMMARY:Giorno del ricordo
DESCRIPTION:Mostra fotografica presso la sala armi del Castello Albani \nOrari: \n\ndomenica 1° febbraio: dalle 10 alle 12 e dalle 15 alle 18\nda lunedì 2 febbraio a domenica 8 febbraio: dalle 10 alle 12
URL:https://www.urgnanoturistica.it/event/giorno-del-ricordo/
LOCATION:Castello\, Viale rimembranze\, Urgnano\, 24059\, Italia
ATTACH;FMTTYPE=image/jpeg:https://www.urgnanoturistica.it/wp-content/uploads/2026/01/Locandina-Urgnano-mostra-scaled.jpg
END:VEVENT
END:VCALENDAR