BEGIN:VCALENDAR
VERSION:2.0
PRODID:-//Urgnano Turistica - ECPv6.5.0//NONSGML v1.0//EN
CALSCALE:GREGORIAN
METHOD:PUBLISH
X-WR-CALNAME:Urgnano Turistica
X-ORIGINAL-URL:https://www.urgnanoturistica.it
X-WR-CALDESC:Eventi per Urgnano Turistica
REFRESH-INTERVAL;VALUE=DURATION:PT1H
X-Robots-Tag:noindex
X-PUBLISHED-TTL:PT1H
BEGIN:VTIMEZONE
TZID:UTC
BEGIN:STANDARD
TZOFFSETFROM:+0000
TZOFFSETTO:+0000
TZNAME:UTC
DTSTART:20240101T000000
END:STANDARD
END:VTIMEZONE
BEGIN:VEVENT
DTSTART;TZID=UTC:20241115T200000
DTEND;TZID=UTC:20241117T180000
DTSTAMP:20260425T185630
CREATED:20241107T104538Z
LAST-MODIFIED:20241107T104538Z
UID:9292-1731700800-1731866400@www.urgnanoturistica.it
SUMMARY:Tavolo 0-6
DESCRIPTION:3 giorni interamente focalizzati sulla carta dei diritti dell’infanzia e dell’adolescenza adottata dall’Onu il 20/11/1989
URL:https://www.urgnanoturistica.it/event/tavolo-0-6/
ATTACH;FMTTYPE=application/pdf:https://www.urgnanoturistica.it/wp-content/uploads/2024/11/Locandina-3-giorni-Tavolo-ZeroSei-rev.241105-1.pdf
END:VEVENT
BEGIN:VEVENT
DTSTART;TZID=UTC:20241117T153000
DTEND;TZID=UTC:20241117T183000
DTSTAMP:20260425T185630
CREATED:20241107T132114Z
LAST-MODIFIED:20241107T132853Z
UID:9299-1731857400-1731868200@www.urgnanoturistica.it
SUMMARY:Musical Incantato
DESCRIPTION:liberamente ispirato alla favola di “La Bella e la Bestia”
URL:https://www.urgnanoturistica.it/event/musical-incantato/
LOCATION:CINE TEATO CAGNOLA\, via roma
ATTACH;FMTTYPE=application/pdf:https://www.urgnanoturistica.it/wp-content/uploads/2024/11/BeB-Urgnano-2024.v4a2-1.pdf
END:VEVENT
END:VCALENDAR